BEGIN:VCALENDAR
VERSION:2.0
X-WR-CALNAME:380l
X-WR-TIMEZONE:US/Central
CALSCALE:GREGORIAN
BEGIN:VEVENT
DTSTART;TZID=US/Central:20130829T140000
DTEND;TZID=US/Central:20130829T153000
SUMMARY:380L (Course Intro - witchel)
DESCRIPTION:380L (Course Intro - witchel)        Notes: How (and How Not) to Write a Good Systems Paper <a class="ref">(Levin and Redell, SIGOPS OSR, 1983)</a>::levin83osr-how-to-write-systems-paper.htm
END:VEVENT
BEGIN:VEVENT
DTSTART;TZID=US/Central:20130903T140000
DTEND;TZID=US/Central:20130903T153000
SUMMARY:380L (Software correctness - witchel)
DESCRIPTION:380L (Software correctness - witchel)       
END:VEVENT
BEGIN:VEVENT
DTSTART;TZID=US/Central:20130905T140000
DTEND;TZID=US/Central:20130905T153000
SUMMARY:380L (OS Design - witchel)
DESCRIPTION:380L (OS Design - witchel)       
END:VEVENT
BEGIN:VEVENT
DTSTART;TZID=US/Central:20130910T140000
DTEND;TZID=US/Central:20130910T153000
SUMMARY:380L (OS Design - witchel)
DESCRIPTION:380L (OS Design - witchel)       
END:VEVENT
BEGIN:VEVENT
DTSTART;TZID=US/Central:20130912T140000
DTEND;TZID=US/Central:20130912T153000
SUMMARY:380L (OS Design - witchel)
DESCRIPTION:380L (OS Design - witchel)       
END:VEVENT
BEGIN:VEVENT
DTSTART;TZID=US/Central:20130917T140000
DTEND;TZID=US/Central:20130917T153000
SUMMARY:380L (mmap + page faults - witchel)
DESCRIPTION:380L (mmap + page faults - witchel)        Notes: Understanding the Linux Kernel (3rd Edition) Chapter 9, Process Address Space
END:VEVENT
BEGIN:VEVENT
DTSTART;TZID=US/Central:20130919T140000
DTEND;TZID=US/Central:20130919T153000
SUMMARY:380L (Virtual machines - witchel)
DESCRIPTION:380L (Virtual machines - witchel)       
END:VEVENT
BEGIN:VEVENT
DTSTART;TZID=US/Central:20130924T140000
DTEND;TZID=US/Central:20130924T153000
SUMMARY:380L (Virtual Machines - witchel)
DESCRIPTION:380L (Virtual Machines - witchel)        Notes: Memory Resource Management in VMware ESX Server <a class="ref">(Waldspurger, OSDI, 2002)</a> ::waldspurger02osdi.pdf
END:VEVENT
BEGIN:VEVENT
DTSTART;TZID=US/Central:20130926T140000
DTEND;TZID=US/Central:20130926T153000
SUMMARY:380L (Race conditions - witchel)
DESCRIPTION:380L (Race conditions - witchel)        Notes: Catch up
END:VEVENT
BEGIN:VEVENT
DTSTART;TZID=US/Central:20131001T140000
DTEND;TZID=US/Central:20131001T153000
SUMMARY:380L (Race conditions - witchel)
DESCRIPTION:380L (Race conditions - witchel)       
END:VEVENT
BEGIN:VEVENT
DTSTART;TZID=US/Central:20131003T140000
DTEND;TZID=US/Central:20131003T153000
SUMMARY:380L (Events and threads - witchel)
DESCRIPTION:380L (Events and threads - witchel)       
END:VEVENT
BEGIN:VEVENT
DTSTART;TZID=US/Central:20131008T140000
DTEND;TZID=US/Central:20131008T153000
SUMMARY:380L (Review - witchel)
DESCRIPTION:380L (Review - witchel)        Notes:  
END:VEVENT
BEGIN:VEVENT
DTSTART;TZID=US/Central:20131010T140000
DTEND;TZID=US/Central:20131010T153000
SUMMARY:380L (File system - witchel)
DESCRIPTION:380L (File system - witchel)        Notes: Improving the Performance of fsck in FreeBSD <a class="ref">(Marshall Kirk McKusick 2013)</a> ::mckusick13-faster_fsck.pdf
END:VEVENT
BEGIN:VEVENT
DTSTART;TZID=US/Central:20131015T140000
DTEND;TZID=US/Central:20131015T153000
SUMMARY:380L (File system - witchel)
DESCRIPTION:380L (File system - witchel)       
END:VEVENT
BEGIN:VEVENT
DTSTART;TZID=US/Central:20131017T140000
DTEND;TZID=US/Central:20131017T153000
SUMMARY:380L (Datacenters - witchel)
DESCRIPTION:380L (Datacenters - witchel)        Notes: The Google File System <a class="ref">(Ghemawat, Gobioff, and Leung, SOSP, 2003)</a> <a href=lectures/GFS.txt>notes</a> ::ghemawat03sosp-google-file-system.pdf
END:VEVENT
BEGIN:VEVENT
DTSTART;TZID=US/Central:20131022T140000
DTEND;TZID=US/Central:20131022T153000
SUMMARY:380L (Cloud Computing - witchel)
DESCRIPTION:380L (Cloud Computing - witchel)       
END:VEVENT
BEGIN:VEVENT
DTSTART;TZID=US/Central:20131024T140000
DTEND;TZID=US/Central:20131024T153000
SUMMARY:380L (Scale - witchel)
DESCRIPTION:380L (Scale - witchel)        Notes: Design and Implementation of the SUN Network Filesystem <a class="ref">(Sandberg, Goldberg, Kleiman, Walsh, and Lyon, USENIX, 1985)</a> <a href=lectures/nfs.txt>notes</a> ::sandberg85usenix-sun-nfs.pdf
END:VEVENT
BEGIN:VEVENT
DTSTART;TZID=US/Central:20131029T140000
DTEND;TZID=US/Central:20131029T153000
SUMMARY:380L (Transactions - witchel)
DESCRIPTION:380L (Transactions - witchel)       
END:VEVENT
BEGIN:VEVENT
DTSTART;TZID=US/Central:20131031T140000
DTEND;TZID=US/Central:20131031T153000
SUMMARY:380L (Transactions - witchel)
DESCRIPTION:380L (Transactions - witchel)       
END:VEVENT
BEGIN:VEVENT
DTSTART;TZID=US/Central:20131105T140000
DTEND;TZID=US/Central:20131105T153000
SUMMARY:380L (Guest lecture (SOSP) - witchel)
DESCRIPTION:380L (Guest lecture (SOSP) - witchel)       
END:VEVENT
BEGIN:VEVENT
DTSTART;TZID=US/Central:20131107T140000
DTEND;TZID=US/Central:20131107T153000
SUMMARY:380L (Security - witchel)
DESCRIPTION:380L (Security - witchel)       
END:VEVENT
BEGIN:VEVENT
DTSTART;TZID=US/Central:20131112T140000
DTEND;TZID=US/Central:20131112T153000
SUMMARY:380L (Security - witchel)
DESCRIPTION:380L (Security - witchel)       
END:VEVENT
BEGIN:VEVENT
DTSTART;TZID=US/Central:20131114T140000
DTEND;TZID=US/Central:20131114T153000
SUMMARY:380L (File systems - witchel)
DESCRIPTION:380L (File systems - witchel)       
END:VEVENT
BEGIN:VEVENT
DTSTART;TZID=US/Central:20131119T140000
DTEND;TZID=US/Central:20131119T153000
SUMMARY:380L (Capabilities - witchel)
DESCRIPTION:380L (Capabilities - witchel)       
END:VEVENT
BEGIN:VEVENT
DTSTART;TZID=US/Central:20131126T140000
DTEND;TZID=US/Central:20131126T153000
SUMMARY:380L (Project presentation - witchel)
DESCRIPTION:380L (Project presentation - witchel)        Notes:  
END:VEVENT
BEGIN:VEVENT
DTSTART;TZID=US/Central:20131203T140000
DTEND;TZID=US/Central:20131203T153000
SUMMARY:380L (Project presentation - witchel)
DESCRIPTION:380L (Project presentation - witchel)        Notes:  
END:VEVENT
BEGIN:VEVENT
DTSTART;TZID=US/Central:20131205T140000
DTEND;TZID=US/Central:20131205T153000
SUMMARY:380L (Project presentation - witchel)
DESCRIPTION:380L (Project presentation - witchel)        Notes:  
END:VEVENT
END:VCALENDAR
